BEGIN:VCALENDAR
VERSION:2.0
PRODID:-//Summit County Continuum of Care - ECPv6.15.13//NONSGML v1.0//EN
CALSCALE:GREGORIAN
METHOD:PUBLISH
X-ORIGINAL-URL:https://summitcoc.org
X-WR-CALDESC:Events for Summit County Continuum of Care
REFRESH-INTERVAL;VALUE=DURATION:PT1H
X-Robots-Tag:noindex
X-PUBLISHED-TTL:PT1H
BEGIN:VTIMEZONE
TZID:America/New_York
BEGIN:DAYLIGHT
TZOFFSETFROM:-0500
TZOFFSETTO:-0400
TZNAME:EDT
DTSTART:20190310T070000
END:DAYLIGHT
BEGIN:STANDARD
TZOFFSETFROM:-0400
TZOFFSETTO:-0500
TZNAME:EST
DTSTART:20191103T060000
END:STANDARD
BEGIN:DAYLIGHT
TZOFFSETFROM:-0500
TZOFFSETTO:-0400
TZNAME:EDT
DTSTART:20200308T070000
END:DAYLIGHT
BEGIN:STANDARD
TZOFFSETFROM:-0400
TZOFFSETTO:-0500
TZNAME:EST
DTSTART:20201101T060000
END:STANDARD
BEGIN:DAYLIGHT
TZOFFSETFROM:-0500
TZOFFSETTO:-0400
TZNAME:EDT
DTSTART:20210314T070000
END:DAYLIGHT
BEGIN:STANDARD
TZOFFSETFROM:-0400
TZOFFSETTO:-0500
TZNAME:EST
DTSTART:20211107T060000
END:STANDARD
END:VTIMEZONE
BEGIN:VEVENT
DTSTART;TZID=America/New_York:20200212T100000
DTEND;TZID=America/New_York:20200212T120000
DTSTAMP:20260424T094520
CREATED:20241226T004052Z
LAST-MODIFIED:20241226T004053Z
UID:10000069-1581501600-1581508800@summitcoc.org
SUMMARY:Veterans By-Name-List
DESCRIPTION:United Way
URL:https://summitcoc.org/event/veterans-by-name-list-2/
END:VEVENT
BEGIN:VEVENT
DTSTART;TZID=America/New_York:20200212T133000
DTEND;TZID=America/New_York:20200212T143000
DTSTAMP:20260424T094520
CREATED:20241226T003907Z
LAST-MODIFIED:20241226T003908Z
UID:10000024-1581514200-1581517800@summitcoc.org
SUMMARY:HMIS User Group
DESCRIPTION:United Way
URL:https://summitcoc.org/event/hmis-user-group-3/
END:VEVENT
END:VCALENDAR