BEGIN:VCALENDAR
VERSION:2.0
PRODID:-//Summit County Continuum of Care - ECPv6.15.13//NONSGML v1.0//EN
CALSCALE:GREGORIAN
METHOD:PUBLISH
X-WR-CALNAME:Summit County Continuum of Care
X-ORIGINAL-URL:https://summitcoc.org
X-WR-CALDESC:Events for Summit County Continuum of Care
REFRESH-INTERVAL;VALUE=DURATION:PT1H
X-Robots-Tag:noindex
X-PUBLISHED-TTL:PT1H
BEGIN:VTIMEZONE
TZID:America/New_York
BEGIN:DAYLIGHT
TZOFFSETFROM:-0500
TZOFFSETTO:-0400
TZNAME:EDT
DTSTART:20210314T070000
END:DAYLIGHT
BEGIN:STANDARD
TZOFFSETFROM:-0400
TZOFFSETTO:-0500
TZNAME:EST
DTSTART:20211107T060000
END:STANDARD
BEGIN:DAYLIGHT
TZOFFSETFROM:-0500
TZOFFSETTO:-0400
TZNAME:EDT
DTSTART:20220313T070000
END:DAYLIGHT
BEGIN:STANDARD
TZOFFSETFROM:-0400
TZOFFSETTO:-0500
TZNAME:EST
DTSTART:20221106T060000
END:STANDARD
BEGIN:DAYLIGHT
TZOFFSETFROM:-0500
TZOFFSETTO:-0400
TZNAME:EDT
DTSTART:20230312T070000
END:DAYLIGHT
BEGIN:STANDARD
TZOFFSETFROM:-0400
TZOFFSETTO:-0500
TZNAME:EST
DTSTART:20231105T060000
END:STANDARD
END:VTIMEZONE
BEGIN:VEVENT
DTSTART;TZID=America/New_York:20220105T133000
DTEND;TZID=America/New_York:20220105T153000
DTSTAMP:20260423T193404
CREATED:20241226T004622Z
LAST-MODIFIED:20241226T004623Z
UID:10000202-1641389400-1641396600@summitcoc.org
SUMMARY:Veterans By-Name-List (BNL)
DESCRIPTION:Zoom
URL:https://summitcoc.org/event/veterans-by-name-list-bnl-2/
END:VEVENT
BEGIN:VEVENT
DTSTART;TZID=America/New_York:20220113T000000
DTEND;TZID=America/New_York:20220113T235900
DTSTAMP:20260423T193404
CREATED:20241226T004437Z
LAST-MODIFIED:20241226T004437Z
UID:10000154-1642032000-1642118340@summitcoc.org
SUMMARY:SCCoC Review & Ranking
DESCRIPTION:Zoom
URL:https://summitcoc.org/event/sccoc-review-ranking-2/
END:VEVENT
BEGIN:VEVENT
DTSTART;TZID=America/New_York:20220113T000000
DTEND;TZID=America/New_York:20220113T235900
DTSTAMP:20260423T193404
CREATED:20241226T004438Z
LAST-MODIFIED:20241226T004438Z
UID:10000159-1642032000-1642118340@summitcoc.org
SUMMARY:SCCoC Review & Ranking
DESCRIPTION:Zoom
URL:https://summitcoc.org/event/sccoc-review-ranking-7/
END:VEVENT
BEGIN:VEVENT
DTSTART;TZID=America/New_York:20220113T130000
DTEND;TZID=America/New_York:20220113T150000
DTSTAMP:20260423T193404
CREATED:20241226T004507Z
LAST-MODIFIED:20241226T004508Z
UID:10000176-1642078800-1642086000@summitcoc.org
SUMMARY:HMIS User Group
DESCRIPTION:
URL:https://summitcoc.org/event/hmis-user-group-10/
END:VEVENT
BEGIN:VEVENT
DTSTART;TZID=America/New_York:20220119T143000
DTEND;TZID=America/New_York:20220119T163000
DTSTAMP:20260423T193404
CREATED:20241226T004422Z
LAST-MODIFIED:20241226T004423Z
UID:10000149-1642602600-1642609800@summitcoc.org
SUMMARY:SCCoC Board
DESCRIPTION:Zoom
URL:https://summitcoc.org/event/sccoc-board-3/
END:VEVENT
BEGIN:VEVENT
DTSTART;TZID=America/New_York:20220124T130000
DTEND;TZID=America/New_York:20220124T150000
DTSTAMP:20260423T193404
CREATED:20241226T004522Z
LAST-MODIFIED:20241226T004523Z
UID:10000181-1643029200-1643036400@summitcoc.org
SUMMARY:HMIS Data Committee
DESCRIPTION:
URL:https://summitcoc.org/event/hmis-data-committee/
END:VEVENT
BEGIN:VEVENT
DTSTART;TZID=America/New_York:20220126T140000
DTEND;TZID=America/New_York:20220126T160000
DTSTAMP:20260423T193404
CREATED:20241226T004552Z
LAST-MODIFIED:20241226T004553Z
UID:10000191-1643205600-1643212800@summitcoc.org
SUMMARY:SCCoC Steering Committee
DESCRIPTION:Zoom
URL:https://summitcoc.org/event/sccoc-steering-committee-2/
END:VEVENT
BEGIN:VEVENT
DTSTART;TZID=America/New_York:20220131T000000
DTEND;TZID=America/New_York:20220131T235900
DTSTAMP:20260423T193404
CREATED:20241226T004407Z
LAST-MODIFIED:20241226T004407Z
UID:10000143-1643587200-1643673540@summitcoc.org
SUMMARY:Deadline
DESCRIPTION:Audits \nMonitoring Letters \nAnnual Packet Docs-Contact Sheet\, Conflict of Interest\, Confidentiality\, Proxy \nAll MOUs
URL:https://summitcoc.org/event/deadline-4/
END:VEVENT
BEGIN:VEVENT
DTSTART;TZID=America/New_York:20220131T000000
DTEND;TZID=America/New_York:20220131T235900
DTSTAMP:20260423T193404
CREATED:20241226T004408Z
LAST-MODIFIED:20241226T004408Z
UID:10000147-1643587200-1643673540@summitcoc.org
SUMMARY:Deadline
DESCRIPTION:Audits \nMonitoring Letters \nAnnual Packet Docs-Contact Sheet\, Conflict of Interest\, Confidentiality\, Proxy \nAll MOUs
URL:https://summitcoc.org/event/deadline-7/
END:VEVENT
END:VCALENDAR