BEGIN:VCALENDAR
VERSION:2.0
PRODID:-//Summit County Continuum of Care - ECPv6.15.13//NONSGML v1.0//EN
CALSCALE:GREGORIAN
METHOD:PUBLISH
X-ORIGINAL-URL:https://summitcoc.org
X-WR-CALDESC:Events for Summit County Continuum of Care
REFRESH-INTERVAL;VALUE=DURATION:PT1H
X-Robots-Tag:noindex
X-PUBLISHED-TTL:PT1H
BEGIN:VTIMEZONE
TZID:America/New_York
BEGIN:DAYLIGHT
TZOFFSETFROM:-0500
TZOFFSETTO:-0400
TZNAME:EDT
DTSTART:20210314T070000
END:DAYLIGHT
BEGIN:STANDARD
TZOFFSETFROM:-0400
TZOFFSETTO:-0500
TZNAME:EST
DTSTART:20211107T060000
END:STANDARD
BEGIN:DAYLIGHT
TZOFFSETFROM:-0500
TZOFFSETTO:-0400
TZNAME:EDT
DTSTART:20220313T070000
END:DAYLIGHT
BEGIN:STANDARD
TZOFFSETFROM:-0400
TZOFFSETTO:-0500
TZNAME:EST
DTSTART:20221106T060000
END:STANDARD
BEGIN:DAYLIGHT
TZOFFSETFROM:-0500
TZOFFSETTO:-0400
TZNAME:EDT
DTSTART:20230312T070000
END:DAYLIGHT
BEGIN:STANDARD
TZOFFSETFROM:-0400
TZOFFSETTO:-0500
TZNAME:EST
DTSTART:20231105T060000
END:STANDARD
END:VTIMEZONE
BEGIN:VEVENT
DTSTART;TZID=America/New_York:20220406T133000
DTEND;TZID=America/New_York:20220406T153000
DTSTAMP:20260426T000756
CREATED:20241226T004637Z
LAST-MODIFIED:20241226T004637Z
UID:10000206-1649251800-1649259000@summitcoc.org
SUMMARY:Veterans By-Name-List (BNL)
DESCRIPTION:Zoom
URL:https://summitcoc.org/event/veterans-by-name-list-bnl-6/
END:VEVENT
BEGIN:VEVENT
DTSTART;TZID=America/New_York:20220413T130000
DTEND;TZID=America/New_York:20220413T150000
DTSTAMP:20260426T000756
CREATED:20241226T004522Z
LAST-MODIFIED:20241226T004523Z
UID:10000184-1649854800-1649862000@summitcoc.org
SUMMARY:HMIS Data Committee
DESCRIPTION:
URL:https://summitcoc.org/event/hmis-data-committee-4/
END:VEVENT
BEGIN:VEVENT
DTSTART;TZID=America/New_York:20220414T000000
DTEND;TZID=America/New_York:20220414T235900
DTSTAMP:20260426T000756
CREATED:20241226T004437Z
LAST-MODIFIED:20241226T004437Z
UID:10000157-1649894400-1649980740@summitcoc.org
SUMMARY:SCCoC Review & Ranking
DESCRIPTION:Zoom
URL:https://summitcoc.org/event/sccoc-review-ranking-5/
END:VEVENT
BEGIN:VEVENT
DTSTART;TZID=America/New_York:20220414T000000
DTEND;TZID=America/New_York:20220414T235900
DTSTAMP:20260426T000756
CREATED:20241226T004438Z
LAST-MODIFIED:20241226T004438Z
UID:10000162-1649894400-1649980740@summitcoc.org
SUMMARY:SCCoC Review & Ranking
DESCRIPTION:Zoom
URL:https://summitcoc.org/event/sccoc-review-ranking-10/
END:VEVENT
BEGIN:VEVENT
DTSTART;TZID=America/New_York:20220427T140000
DTEND;TZID=America/New_York:20220427T160000
DTSTAMP:20260426T000756
CREATED:20241226T004552Z
LAST-MODIFIED:20241226T004553Z
UID:10000194-1651068000-1651075200@summitcoc.org
SUMMARY:SCCoC Steering Committee
DESCRIPTION:Zoom
URL:https://summitcoc.org/event/sccoc-steering-committee-5/
END:VEVENT
BEGIN:VEVENT
DTSTART;TZID=America/New_York:20220428T143000
DTEND;TZID=America/New_York:20220428T163000
DTSTAMP:20260426T000756
CREATED:20241226T004422Z
LAST-MODIFIED:20241226T004423Z
UID:10000150-1651156200-1651163400@summitcoc.org
SUMMARY:SCCoC Board
DESCRIPTION:Zoom
URL:https://summitcoc.org/event/sccoc-board-4/
END:VEVENT
END:VCALENDAR