BEGIN:VCALENDAR
VERSION:2.0
PRODID:-//Summit County Continuum of Care - ECPv6.15.13//NONSGML v1.0//EN
CALSCALE:GREGORIAN
METHOD:PUBLISH
X-ORIGINAL-URL:https://summitcoc.org
X-WR-CALDESC:Events for Summit County Continuum of Care
REFRESH-INTERVAL;VALUE=DURATION:PT1H
X-Robots-Tag:noindex
X-PUBLISHED-TTL:PT1H
BEGIN:VTIMEZONE
TZID:America/New_York
BEGIN:DAYLIGHT
TZOFFSETFROM:-0500
TZOFFSETTO:-0400
TZNAME:EDT
DTSTART:20210314T070000
END:DAYLIGHT
BEGIN:STANDARD
TZOFFSETFROM:-0400
TZOFFSETTO:-0500
TZNAME:EST
DTSTART:20211107T060000
END:STANDARD
BEGIN:DAYLIGHT
TZOFFSETFROM:-0500
TZOFFSETTO:-0400
TZNAME:EDT
DTSTART:20220313T070000
END:DAYLIGHT
BEGIN:STANDARD
TZOFFSETFROM:-0400
TZOFFSETTO:-0500
TZNAME:EST
DTSTART:20221106T060000
END:STANDARD
BEGIN:DAYLIGHT
TZOFFSETFROM:-0500
TZOFFSETTO:-0400
TZNAME:EDT
DTSTART:20230312T070000
END:DAYLIGHT
BEGIN:STANDARD
TZOFFSETFROM:-0400
TZOFFSETTO:-0500
TZNAME:EST
DTSTART:20231105T060000
END:STANDARD
END:VTIMEZONE
BEGIN:VEVENT
DTSTART;TZID=America/New_York:20220803T133000
DTEND;TZID=America/New_York:20220803T153000
DTSTAMP:20260421T134341
CREATED:20241226T004637Z
LAST-MODIFIED:20241226T004637Z
UID:10000209-1659533400-1659540600@summitcoc.org
SUMMARY:Veterans By-Name-List (BNL)
DESCRIPTION:Zoom
URL:https://summitcoc.org/event/veterans-by-name-list-bnl-9/
END:VEVENT
BEGIN:VEVENT
DTSTART;TZID=America/New_York:20220810T130000
DTEND;TZID=America/New_York:20220810T150000
DTSTAMP:20260421T134341
CREATED:20241226T004522Z
LAST-MODIFIED:20241226T004523Z
UID:10000183-1660136400-1660143600@summitcoc.org
SUMMARY:HMIS Data Committee
DESCRIPTION:
URL:https://summitcoc.org/event/hmis-data-committee-3/
END:VEVENT
BEGIN:VEVENT
DTSTART;TZID=America/New_York:20220811T000000
DTEND;TZID=America/New_York:20220811T235900
DTSTAMP:20260421T134341
CREATED:20241226T004452Z
LAST-MODIFIED:20241226T004452Z
UID:10000166-1660176000-1660262340@summitcoc.org
SUMMARY:SCCoC Review & Ranking
DESCRIPTION:Zoom
URL:https://summitcoc.org/event/sccoc-review-ranking-14/
END:VEVENT
BEGIN:VEVENT
DTSTART;TZID=America/New_York:20220811T000000
DTEND;TZID=America/New_York:20220811T235900
DTSTAMP:20260421T134341
CREATED:20241226T004453Z
LAST-MODIFIED:20241226T004453Z
UID:10000171-1660176000-1660262340@summitcoc.org
SUMMARY:SCCoC Review & Ranking
DESCRIPTION:Zoom
URL:https://summitcoc.org/event/sccoc-review-ranking-19/
END:VEVENT
BEGIN:VEVENT
DTSTART;TZID=America/New_York:20220824T140000
DTEND;TZID=America/New_York:20220824T160000
DTSTAMP:20260421T134341
CREATED:20241226T004607Z
LAST-MODIFIED:20241226T004608Z
UID:10000198-1661349600-1661356800@summitcoc.org
SUMMARY:SCCoC Steering Committee
DESCRIPTION:Zoom
URL:https://summitcoc.org/event/sccoc-steering-committee-9/
END:VEVENT
BEGIN:VEVENT
DTSTART;TZID=America/New_York:20220825T143000
DTEND;TZID=America/New_York:20220825T163000
DTSTAMP:20260421T134341
CREATED:20241226T004422Z
LAST-MODIFIED:20241226T004423Z
UID:10000152-1661437800-1661445000@summitcoc.org
SUMMARY:SCCoC Board
DESCRIPTION:Zoom
URL:https://summitcoc.org/event/sccoc-board-6/
END:VEVENT
END:VCALENDAR