BEGIN:VCALENDAR
VERSION:2.0
PRODID:-//Summit County Continuum of Care - ECPv6.15.13//NONSGML v1.0//EN
CALSCALE:GREGORIAN
METHOD:PUBLISH
X-ORIGINAL-URL:https://summitcoc.org
X-WR-CALDESC:Events for Summit County Continuum of Care
REFRESH-INTERVAL;VALUE=DURATION:PT1H
X-Robots-Tag:noindex
X-PUBLISHED-TTL:PT1H
BEGIN:VTIMEZONE
TZID:America/New_York
BEGIN:DAYLIGHT
TZOFFSETFROM:-0500
TZOFFSETTO:-0400
TZNAME:EDT
DTSTART:20270314T070000
END:DAYLIGHT
BEGIN:STANDARD
TZOFFSETFROM:-0400
TZOFFSETTO:-0500
TZNAME:EST
DTSTART:20271107T060000
END:STANDARD
BEGIN:DAYLIGHT
TZOFFSETFROM:-0500
TZOFFSETTO:-0400
TZNAME:EDT
DTSTART:20280312T070000
END:DAYLIGHT
BEGIN:STANDARD
TZOFFSETFROM:-0400
TZOFFSETTO:-0500
TZNAME:EST
DTSTART:20281105T060000
END:STANDARD
BEGIN:DAYLIGHT
TZOFFSETFROM:-0500
TZOFFSETTO:-0400
TZNAME:EDT
DTSTART:20290311T070000
END:DAYLIGHT
BEGIN:STANDARD
TZOFFSETFROM:-0400
TZOFFSETTO:-0500
TZNAME:EST
DTSTART:20291104T060000
END:STANDARD
BEGIN:DAYLIGHT
TZOFFSETFROM:-0500
TZOFFSETTO:-0400
TZNAME:EDT
DTSTART:20300310T070000
END:DAYLIGHT
BEGIN:STANDARD
TZOFFSETFROM:-0400
TZOFFSETTO:-0500
TZNAME:EST
DTSTART:20301103T060000
END:STANDARD
BEGIN:DAYLIGHT
TZOFFSETFROM:-0500
TZOFFSETTO:-0400
TZNAME:EDT
DTSTART:20310309T070000
END:DAYLIGHT
BEGIN:STANDARD
TZOFFSETFROM:-0400
TZOFFSETTO:-0500
TZNAME:EST
DTSTART:20311102T060000
END:STANDARD
END:VTIMEZONE
BEGIN:VEVENT
DTSTART;TZID=America/New_York:20280503T103000
DTEND;TZID=America/New_York:20280503T113000
DTSTAMP:20260423T013606
CREATED:20260320T155730Z
LAST-MODIFIED:20260320T155731Z
UID:10000313-1840962600-1840966200@summitcoc.org
SUMMARY:Veterans By-Name List
DESCRIPTION:Veterans By-Name List Every 1st Weds@10:30 am (Colleen Cicero\, Chair) Virtual
URL:https://summitcoc.org/event/veterans-by-name-list-13-2/2028-05-03/
END:VEVENT
BEGIN:VEVENT
DTSTART;TZID=America/New_York:20280607T103000
DTEND;TZID=America/New_York:20280607T113000
DTSTAMP:20260423T013606
CREATED:20260320T155730Z
LAST-MODIFIED:20260320T155731Z
UID:10000314-1843986600-1843990200@summitcoc.org
SUMMARY:Veterans By-Name List
DESCRIPTION:Veterans By-Name List Every 1st Weds@10:30 am (Colleen Cicero\, Chair) Virtual
URL:https://summitcoc.org/event/veterans-by-name-list-13-2/2028-06-07/
END:VEVENT
BEGIN:VEVENT
DTSTART;TZID=America/New_York:20280705T103000
DTEND;TZID=America/New_York:20280705T113000
DTSTAMP:20260423T013606
CREATED:20260320T155730Z
LAST-MODIFIED:20260320T155731Z
UID:10000315-1846405800-1846409400@summitcoc.org
SUMMARY:Veterans By-Name List
DESCRIPTION:Veterans By-Name List Every 1st Weds@10:30 am (Colleen Cicero\, Chair) Virtual
URL:https://summitcoc.org/event/veterans-by-name-list-13-2/2028-07-05/
END:VEVENT
BEGIN:VEVENT
DTSTART;TZID=America/New_York:20280802T103000
DTEND;TZID=America/New_York:20280802T113000
DTSTAMP:20260423T013606
CREATED:20260320T155730Z
LAST-MODIFIED:20260320T155731Z
UID:10000316-1848825000-1848828600@summitcoc.org
SUMMARY:Veterans By-Name List
DESCRIPTION:Veterans By-Name List Every 1st Weds@10:30 am (Colleen Cicero\, Chair) Virtual
URL:https://summitcoc.org/event/veterans-by-name-list-13-2/2028-08-02/
END:VEVENT
BEGIN:VEVENT
DTSTART;TZID=America/New_York:20280906T103000
DTEND;TZID=America/New_York:20280906T113000
DTSTAMP:20260423T013606
CREATED:20260320T155730Z
LAST-MODIFIED:20260320T155731Z
UID:10000317-1851849000-1851852600@summitcoc.org
SUMMARY:Veterans By-Name List
DESCRIPTION:Veterans By-Name List Every 1st Weds@10:30 am (Colleen Cicero\, Chair) Virtual
URL:https://summitcoc.org/event/veterans-by-name-list-13-2/2028-09-06/
END:VEVENT
BEGIN:VEVENT
DTSTART;TZID=America/New_York:20281004T103000
DTEND;TZID=America/New_York:20281004T113000
DTSTAMP:20260423T013606
CREATED:20260320T155730Z
LAST-MODIFIED:20260320T155731Z
UID:10000318-1854268200-1854271800@summitcoc.org
SUMMARY:Veterans By-Name List
DESCRIPTION:Veterans By-Name List Every 1st Weds@10:30 am (Colleen Cicero\, Chair) Virtual
URL:https://summitcoc.org/event/veterans-by-name-list-13-2/2028-10-04/
END:VEVENT
BEGIN:VEVENT
DTSTART;TZID=America/New_York:20281101T103000
DTEND;TZID=America/New_York:20281101T113000
DTSTAMP:20260423T013606
CREATED:20260320T155730Z
LAST-MODIFIED:20260320T155731Z
UID:10000319-1856687400-1856691000@summitcoc.org
SUMMARY:Veterans By-Name List
DESCRIPTION:Veterans By-Name List Every 1st Weds@10:30 am (Colleen Cicero\, Chair) Virtual
URL:https://summitcoc.org/event/veterans-by-name-list-13-2/2028-11-01/
END:VEVENT
BEGIN:VEVENT
DTSTART;TZID=America/New_York:20281206T103000
DTEND;TZID=America/New_York:20281206T113000
DTSTAMP:20260423T013606
CREATED:20260320T155730Z
LAST-MODIFIED:20260320T155731Z
UID:10000320-1859711400-1859715000@summitcoc.org
SUMMARY:Veterans By-Name List
DESCRIPTION:Veterans By-Name List Every 1st Weds@10:30 am (Colleen Cicero\, Chair) Virtual
URL:https://summitcoc.org/event/veterans-by-name-list-13-2/2028-12-06/
END:VEVENT
BEGIN:VEVENT
DTSTART;TZID=America/New_York:20290103T103000
DTEND;TZID=America/New_York:20290103T113000
DTSTAMP:20260423T013606
CREATED:20260320T155730Z
LAST-MODIFIED:20260320T155731Z
UID:10000321-1862130600-1862134200@summitcoc.org
SUMMARY:Veterans By-Name List
DESCRIPTION:Veterans By-Name List Every 1st Weds@10:30 am (Colleen Cicero\, Chair) Virtual
URL:https://summitcoc.org/event/veterans-by-name-list-13-2/2029-01-03/
END:VEVENT
BEGIN:VEVENT
DTSTART;TZID=America/New_York:20290207T103000
DTEND;TZID=America/New_York:20290207T113000
DTSTAMP:20260423T013606
CREATED:20260320T155730Z
LAST-MODIFIED:20260320T155731Z
UID:10000322-1865154600-1865158200@summitcoc.org
SUMMARY:Veterans By-Name List
DESCRIPTION:Veterans By-Name List Every 1st Weds@10:30 am (Colleen Cicero\, Chair) Virtual
URL:https://summitcoc.org/event/veterans-by-name-list-13-2/2029-02-07/
END:VEVENT
BEGIN:VEVENT
DTSTART;TZID=America/New_York:20290307T103000
DTEND;TZID=America/New_York:20290307T113000
DTSTAMP:20260423T013606
CREATED:20260320T155730Z
LAST-MODIFIED:20260320T155731Z
UID:10000323-1867573800-1867577400@summitcoc.org
SUMMARY:Veterans By-Name List
DESCRIPTION:Veterans By-Name List Every 1st Weds@10:30 am (Colleen Cicero\, Chair) Virtual
URL:https://summitcoc.org/event/veterans-by-name-list-13-2/2029-03-07/
END:VEVENT
BEGIN:VEVENT
DTSTART;TZID=America/New_York:20290404T103000
DTEND;TZID=America/New_York:20290404T113000
DTSTAMP:20260423T013606
CREATED:20260320T155730Z
LAST-MODIFIED:20260320T155731Z
UID:10000324-1869993000-1869996600@summitcoc.org
SUMMARY:Veterans By-Name List
DESCRIPTION:Veterans By-Name List Every 1st Weds@10:30 am (Colleen Cicero\, Chair) Virtual
URL:https://summitcoc.org/event/veterans-by-name-list-13-2/2029-04-04/
END:VEVENT
BEGIN:VEVENT
DTSTART;TZID=America/New_York:20290502T103000
DTEND;TZID=America/New_York:20290502T113000
DTSTAMP:20260423T013606
CREATED:20260320T155730Z
LAST-MODIFIED:20260320T155731Z
UID:10000325-1872412200-1872415800@summitcoc.org
SUMMARY:Veterans By-Name List
DESCRIPTION:Veterans By-Name List Every 1st Weds@10:30 am (Colleen Cicero\, Chair) Virtual
URL:https://summitcoc.org/event/veterans-by-name-list-13-2/2029-05-02/
END:VEVENT
BEGIN:VEVENT
DTSTART;TZID=America/New_York:20290606T103000
DTEND;TZID=America/New_York:20290606T113000
DTSTAMP:20260423T013606
CREATED:20260320T155730Z
LAST-MODIFIED:20260320T155731Z
UID:10000326-1875436200-1875439800@summitcoc.org
SUMMARY:Veterans By-Name List
DESCRIPTION:Veterans By-Name List Every 1st Weds@10:30 am (Colleen Cicero\, Chair) Virtual
URL:https://summitcoc.org/event/veterans-by-name-list-13-2/2029-06-06/
END:VEVENT
BEGIN:VEVENT
DTSTART;TZID=America/New_York:20290704T103000
DTEND;TZID=America/New_York:20290704T113000
DTSTAMP:20260423T013606
CREATED:20260320T155730Z
LAST-MODIFIED:20260320T155731Z
UID:10000327-1877855400-1877859000@summitcoc.org
SUMMARY:Veterans By-Name List
DESCRIPTION:Veterans By-Name List Every 1st Weds@10:30 am (Colleen Cicero\, Chair) Virtual
URL:https://summitcoc.org/event/veterans-by-name-list-13-2/2029-07-04/
END:VEVENT
BEGIN:VEVENT
DTSTART;TZID=America/New_York:20290801T103000
DTEND;TZID=America/New_York:20290801T113000
DTSTAMP:20260423T013606
CREATED:20260320T155730Z
LAST-MODIFIED:20260320T155731Z
UID:10000328-1880274600-1880278200@summitcoc.org
SUMMARY:Veterans By-Name List
DESCRIPTION:Veterans By-Name List Every 1st Weds@10:30 am (Colleen Cicero\, Chair) Virtual
URL:https://summitcoc.org/event/veterans-by-name-list-13-2/2029-08-01/
END:VEVENT
BEGIN:VEVENT
DTSTART;TZID=America/New_York:20290905T103000
DTEND;TZID=America/New_York:20290905T113000
DTSTAMP:20260423T013606
CREATED:20260320T155730Z
LAST-MODIFIED:20260320T155731Z
UID:10000329-1883298600-1883302200@summitcoc.org
SUMMARY:Veterans By-Name List
DESCRIPTION:Veterans By-Name List Every 1st Weds@10:30 am (Colleen Cicero\, Chair) Virtual
URL:https://summitcoc.org/event/veterans-by-name-list-13-2/2029-09-05/
END:VEVENT
BEGIN:VEVENT
DTSTART;TZID=America/New_York:20291003T103000
DTEND;TZID=America/New_York:20291003T113000
DTSTAMP:20260423T013606
CREATED:20260320T155730Z
LAST-MODIFIED:20260320T155731Z
UID:10000330-1885717800-1885721400@summitcoc.org
SUMMARY:Veterans By-Name List
DESCRIPTION:Veterans By-Name List Every 1st Weds@10:30 am (Colleen Cicero\, Chair) Virtual
URL:https://summitcoc.org/event/veterans-by-name-list-13-2/2029-10-03/
END:VEVENT
BEGIN:VEVENT
DTSTART;TZID=America/New_York:20291107T103000
DTEND;TZID=America/New_York:20291107T113000
DTSTAMP:20260423T013606
CREATED:20260320T155730Z
LAST-MODIFIED:20260320T155731Z
UID:10000331-1888741800-1888745400@summitcoc.org
SUMMARY:Veterans By-Name List
DESCRIPTION:Veterans By-Name List Every 1st Weds@10:30 am (Colleen Cicero\, Chair) Virtual
URL:https://summitcoc.org/event/veterans-by-name-list-13-2/2029-11-07/
END:VEVENT
BEGIN:VEVENT
DTSTART;TZID=America/New_York:20291205T103000
DTEND;TZID=America/New_York:20291205T113000
DTSTAMP:20260423T013606
CREATED:20260320T155730Z
LAST-MODIFIED:20260320T155731Z
UID:10000332-1891161000-1891164600@summitcoc.org
SUMMARY:Veterans By-Name List
DESCRIPTION:Veterans By-Name List Every 1st Weds@10:30 am (Colleen Cicero\, Chair) Virtual
URL:https://summitcoc.org/event/veterans-by-name-list-13-2/2029-12-05/
END:VEVENT
BEGIN:VEVENT
DTSTART;TZID=America/New_York:20300102T103000
DTEND;TZID=America/New_York:20300102T113000
DTSTAMP:20260423T013606
CREATED:20260320T155730Z
LAST-MODIFIED:20260320T155731Z
UID:10000333-1893580200-1893583800@summitcoc.org
SUMMARY:Veterans By-Name List
DESCRIPTION:Veterans By-Name List Every 1st Weds@10:30 am (Colleen Cicero\, Chair) Virtual
URL:https://summitcoc.org/event/veterans-by-name-list-13-2/2030-01-02/
END:VEVENT
BEGIN:VEVENT
DTSTART;TZID=America/New_York:20300206T103000
DTEND;TZID=America/New_York:20300206T113000
DTSTAMP:20260423T013606
CREATED:20260320T155730Z
LAST-MODIFIED:20260320T155731Z
UID:10000942-1896604200-1896607800@summitcoc.org
SUMMARY:Veterans By-Name List
DESCRIPTION:Veterans By-Name List Every 1st Weds@10:30 am (Colleen Cicero\, Chair) Virtual
URL:https://summitcoc.org/event/veterans-by-name-list-13-2/2030-02-06/
END:VEVENT
BEGIN:VEVENT
DTSTART;TZID=America/New_York:20300306T103000
DTEND;TZID=America/New_York:20300306T113000
DTSTAMP:20260423T013606
CREATED:20260320T155730Z
LAST-MODIFIED:20260320T155731Z
UID:10000943-1899023400-1899027000@summitcoc.org
SUMMARY:Veterans By-Name List
DESCRIPTION:Veterans By-Name List Every 1st Weds@10:30 am (Colleen Cicero\, Chair) Virtual
URL:https://summitcoc.org/event/veterans-by-name-list-13-2/2030-03-06/
END:VEVENT
BEGIN:VEVENT
DTSTART;TZID=America/New_York:20300403T103000
DTEND;TZID=America/New_York:20300403T113000
DTSTAMP:20260423T013606
CREATED:20260320T155730Z
LAST-MODIFIED:20260320T155731Z
UID:10000944-1901442600-1901446200@summitcoc.org
SUMMARY:Veterans By-Name List
DESCRIPTION:Veterans By-Name List Every 1st Weds@10:30 am (Colleen Cicero\, Chair) Virtual
URL:https://summitcoc.org/event/veterans-by-name-list-13-2/2030-04-03/
END:VEVENT
BEGIN:VEVENT
DTSTART;TZID=America/New_York:20300501T103000
DTEND;TZID=America/New_York:20300501T113000
DTSTAMP:20260423T013606
CREATED:20260320T155730Z
LAST-MODIFIED:20260320T155731Z
UID:10000945-1903861800-1903865400@summitcoc.org
SUMMARY:Veterans By-Name List
DESCRIPTION:Veterans By-Name List Every 1st Weds@10:30 am (Colleen Cicero\, Chair) Virtual
URL:https://summitcoc.org/event/veterans-by-name-list-13-2/2030-05-01/
END:VEVENT
BEGIN:VEVENT
DTSTART;TZID=America/New_York:20300605T103000
DTEND;TZID=America/New_York:20300605T113000
DTSTAMP:20260423T013606
CREATED:20260320T155730Z
LAST-MODIFIED:20260320T155731Z
UID:10000946-1906885800-1906889400@summitcoc.org
SUMMARY:Veterans By-Name List
DESCRIPTION:Veterans By-Name List Every 1st Weds@10:30 am (Colleen Cicero\, Chair) Virtual
URL:https://summitcoc.org/event/veterans-by-name-list-13-2/2030-06-05/
END:VEVENT
BEGIN:VEVENT
DTSTART;TZID=America/New_York:20300703T103000
DTEND;TZID=America/New_York:20300703T113000
DTSTAMP:20260423T013606
CREATED:20260320T155730Z
LAST-MODIFIED:20260320T155731Z
UID:10000947-1909305000-1909308600@summitcoc.org
SUMMARY:Veterans By-Name List
DESCRIPTION:Veterans By-Name List Every 1st Weds@10:30 am (Colleen Cicero\, Chair) Virtual
URL:https://summitcoc.org/event/veterans-by-name-list-13-2/2030-07-03/
END:VEVENT
BEGIN:VEVENT
DTSTART;TZID=America/New_York:20300807T103000
DTEND;TZID=America/New_York:20300807T113000
DTSTAMP:20260423T013606
CREATED:20260320T155730Z
LAST-MODIFIED:20260320T155731Z
UID:10000948-1912329000-1912332600@summitcoc.org
SUMMARY:Veterans By-Name List
DESCRIPTION:Veterans By-Name List Every 1st Weds@10:30 am (Colleen Cicero\, Chair) Virtual
URL:https://summitcoc.org/event/veterans-by-name-list-13-2/2030-08-07/
END:VEVENT
BEGIN:VEVENT
DTSTART;TZID=America/New_York:20300904T103000
DTEND;TZID=America/New_York:20300904T113000
DTSTAMP:20260423T013606
CREATED:20260320T155730Z
LAST-MODIFIED:20260320T155731Z
UID:10000949-1914748200-1914751800@summitcoc.org
SUMMARY:Veterans By-Name List
DESCRIPTION:Veterans By-Name List Every 1st Weds@10:30 am (Colleen Cicero\, Chair) Virtual
URL:https://summitcoc.org/event/veterans-by-name-list-13-2/2030-09-04/
END:VEVENT
BEGIN:VEVENT
DTSTART;TZID=America/New_York:20301002T103000
DTEND;TZID=America/New_York:20301002T113000
DTSTAMP:20260423T013606
CREATED:20260320T155730Z
LAST-MODIFIED:20260320T155731Z
UID:10000950-1917167400-1917171000@summitcoc.org
SUMMARY:Veterans By-Name List
DESCRIPTION:Veterans By-Name List Every 1st Weds@10:30 am (Colleen Cicero\, Chair) Virtual
URL:https://summitcoc.org/event/veterans-by-name-list-13-2/2030-10-02/
END:VEVENT
END:VCALENDAR